BEGIN:VCALENDAR
VERSION:2.0
PRODID:-//La Casita de Inglés - ECPv6.6.4.2//NONSGML v1.0//EN
CALSCALE:GREGORIAN
METHOD:PUBLISH
X-WR-CALNAME:La Casita de Inglés
X-ORIGINAL-URL:https://lacasitadeingles.com
X-WR-CALDESC:Eventos para La Casita de Inglés
REFRESH-INTERVAL;VALUE=DURATION:PT1H
X-Robots-Tag:noindex
X-PUBLISHED-TTL:PT1H
BEGIN:VTIMEZONE
TZID:Europe/Madrid
BEGIN:DAYLIGHT
TZOFFSETFROM:+0100
TZOFFSETTO:+0200
TZNAME:CEST
DTSTART:20240331T010000
END:DAYLIGHT
BEGIN:STANDARD
TZOFFSETFROM:+0200
TZOFFSETTO:+0100
TZNAME:CET
DTSTART:20241027T010000
END:STANDARD
END:VTIMEZONE
BEGIN:VEVENT
DTSTART;TZID=Europe/Madrid:20241129T180000
DTEND;TZID=Europe/Madrid:20241129T190000
DTSTAMP:20260423T064225
CREATED:20241114T172044Z
LAST-MODIFIED:20241114T180024Z
UID:40241-1732903200-1732906800@lacasitadeingles.com
SUMMARY:🎨👩‍🎨 ART CLUB Pozuelo 29 NOVIEMBRE 2024
DESCRIPTION:🎨 ¡Bienvenidos al Art Club de La Casita de Inglés en Pozuelo! 🎨 \nTodos los viernes\, saca al artista que llevas dentro en nuestros talleres de arte con Louis Nye\, nuestro talentoso artista londinense 🌍✨. No necesitas ser alumno de La Casita para unirte ¡El Art Club está abierto para todos los niños y niñas con ganas de explorar su creatividad y aprender algo nuevo! \nCada semana\, Louis nos sumerge en el mundo del arte en inglés 🎉 Nos cuenta sobre un artista o movimiento artístico que nos inspira ese día y nos muestra técnicas súper chulas como carboncillo\, pastel\, acrílico\, acuarela\, collage ¡y mucho más! \nCUÁNDO: Los viernes de 18:00 a 19:00 \nDÓNDE: Calle Ámbar 9\, Pozuelo de Alarcón \n📲 Teléfono / WhatsApp: 699 936 373 \n🆓 Una sesión gratis y sin compromiso\n💰 Tras la clase gratis\, cada sesión suelta: 20€\n📅66€ al mes \n🎟 Paga fácilmente online en https://clientes.lacasitadeingles.com/ o con tarjeta en la misma Casita. \nVen a dejar volar tu imaginación\, aprende en inglés y diviértete en el Art Club de La Casita de Inglés. ✨👩‍🎨🧑‍🎨 \n¡Solicita una clase de prueba gratuita!\nPara más información llama o escribe un WhatsApp al 699 936 373 o escribe un email a pozuelo@lacasitadeingles.com
URL:https://lacasitadeingles.com/evento/art-club-pozuelo-29-noviembre-2024/
LOCATION:La Casita de Inglés Pozuelo\, C/ Ámbar 9\, Pozuelo de Alarcón\, Madrid\, 28224\, Spain
CATEGORIES:Talleres
ATTACH;FMTTYPE=image/png:https://lacasitadeingles.com/wp-content/uploads/2024/03/web.png
END:VEVENT
BEGIN:VEVENT
DTSTART;TZID=Europe/Madrid:20241129T180000
DTEND;TZID=Europe/Madrid:20241129T193000
DTSTAMP:20260423T064225
CREATED:20241114T145220Z
LAST-MODIFIED:20241114T145517Z
UID:40221-1732903200-1732908600@lacasitadeingles.com
SUMMARY:🍶Taller de cerámica en inglés nativo NOVIEMBRE 2024
DESCRIPTION:¿Te gustaría crear tus propias obras de arte en cerámica? ¡Y hacerlo de la mano de una ceramista profesional que también es profesora nativa de inglés! Nosotros ponemos los materiales\, el horno y mucho cariño; tú solo necesitas traer tus manos y entusiasmo. \nEn nuestras Pottery Classes\, los pequeños artistas disfrutan de una experiencia de 1\,5 horas en la que\, mientras conversan en inglés\, descubren el fascinante mundo de la cerámica. \n¿Qué harás en cada sesión? Para los más pequeños\, cada taller sigue una temática divertida y estacional (Halloween\, Navidad\, Pascua\, etc.)\, mientras que los mayores tienen libertad para desarrollar sus propias ideas y explorar con materiales como la arcilla\, el gres\, los engobes y los esmaltes. \nDurante el taller\, darás forma a tus piezas\, las pintarás y\, después de 10 días\, ¡podrás recoger tu creación final\, lista y esmaltada! Nos ocupamos del secado\, el esmaltado y la cocción en un horno cerámico. Y\, por supuesto\, nuestras piezas son 100% aptas para alimentos. \nAdemás de aprender inglés y técnicas de cerámica\, los niños desarrollan su creatividad\, su confianza y su autonomía en un ambiente relajado y estimulante. ¡Es mucho más que un taller! \n\n\nEDAD:  \nDe 5 a 15 años\n\nCUÁNDO: \nLos últimos viernes de cada mes de 18:00 a 19:30 \n\nDÓNDE:  \nC/ Fernández de la Hoz 80\, 28003\, Madrid.\n\n\nPRECIO:\n25 €/clase  Material y cocciones incluidas.\n\n\nAFORO:\n8 alumnos.\n\n\nCurso 2024/25: ¡Matrícula gratis! \n\n\n  \n\nReserva de plaza:\n\nPara reservar tus plazas\, ENTRA AQUÍ y accede con tu usuario y contraseña (o bien regístrate si no lo has hecho aún)\, y pincha en «Campamentos / Talleres»\, luego elige el centro\, Chamberí\, y selecciona el taller para inscribiros. \n \n¡No es necesaria experiencia previa!
URL:https://lacasitadeingles.com/evento/%f0%9f%8d%b6taller-de-ceramica-en-ingles-nativo-copia/
LOCATION:LA CASITA DE INGLÉS EN CHAMBERÍ\, C/ FERNÁNDEZ DE LA HOZ\, 80\, Madrid\, Madrid\, 28003\, España
CATEGORIES:Talleres
ATTACH;FMTTYPE=image/png:https://lacasitadeingles.com/wp-content/uploads/2024/11/web-1.png
END:VEVENT
END:VCALENDAR