BEGIN:VCALENDAR
VERSION:2.0
PRODID:-//La Casita de Inglés - ECPv6.6.4.2//NONSGML v1.0//EN
CALSCALE:GREGORIAN
METHOD:PUBLISH
X-ORIGINAL-URL:https://lacasitadeingles.com
X-WR-CALDESC:Eventos para La Casita de Inglés
REFRESH-INTERVAL;VALUE=DURATION:PT1H
X-Robots-Tag:noindex
X-PUBLISHED-TTL:PT1H
BEGIN:VTIMEZONE
TZID:Europe/Madrid
BEGIN:DAYLIGHT
TZOFFSETFROM:+0100
TZOFFSETTO:+0200
TZNAME:CEST
DTSTART:20250330T010000
END:DAYLIGHT
BEGIN:STANDARD
TZOFFSETFROM:+0200
TZOFFSETTO:+0100
TZNAME:CET
DTSTART:20251026T010000
END:STANDARD
END:VTIMEZONE
BEGIN:VEVENT
DTSTART;TZID=Europe/Madrid:20250214T180000
DTEND;TZID=Europe/Madrid:20250214T190000
DTSTAMP:20260423T025827
CREATED:20250212T140615Z
LAST-MODIFIED:20250212T140808Z
UID:40556-1739556000-1739559600@lacasitadeingles.com
SUMMARY:🎨👩‍🎨 ART CLUB Pozuelo 14 febrero
DESCRIPTION:🎨 ¡Bienvenidos al Art Club de La Casita de Inglés en Pozuelo! 🎨 \nTodos los viernes\, saca al artista que llevas dentro en nuestros talleres de arte con Louis Nye\, nuestro talentoso artista londinense 🌍✨. No necesitas ser alumno de La Casita para unirte ¡El Art Club está abierto para todos los niños y niñas con ganas de explorar su creatividad y aprender algo nuevo! \nCada semana\, Louis nos sumerge en el mundo del arte en inglés 🎉 Nos cuenta sobre un artista o movimiento artístico que nos inspira ese día y nos muestra técnicas súper chulas como carboncillo\, pastel\, acrílico\, acuarela\, collage ¡y mucho más! \nCUÁNDO: Los viernes de 18:00 a 19:00 \nDÓNDE: Calle Ámbar 9\, Pozuelo de Alarcón \n📲 Teléfono / WhatsApp: 699 936 373 \n🆓 Una sesión gratis y sin compromiso\n💰 Tras la clase gratis\, cada sesión suelta: 20€ \n🎟 Paga fácilmente online en https://clientes.lacasitadeingles.com/ o con tarjeta en la misma Casita. \nVen a dejar volar tu imaginación\, aprende en inglés y diviértete en el Art Club de La Casita de Inglés. ✨👩‍🎨🧑‍🎨 \n¡Solicita una clase de prueba gratuita!\nPara más información llama o escribe un WhatsApp al 699 936 373 o escribe un email a pozuelo@lacasitadeingles.com
URL:https://lacasitadeingles.com/evento/%f0%9f%8e%a8%f0%9f%91%a9%f0%9f%8e%a8-art-club-pozuelo-14-febrero/
LOCATION:La Casita de Inglés Pozuelo\, C/ Ámbar 9\, Pozuelo de Alarcón\, Madrid\, 28224\, Spain
CATEGORIES:Talleres
ATTACH;FMTTYPE=image/png:https://lacasitadeingles.com/wp-content/uploads/2024/03/web.png
END:VEVENT
END:VCALENDAR