BEGIN:VCALENDAR
VERSION:2.0
PRODID:-//La Casita de Inglés - ECPv6.6.4.2//NONSGML v1.0//EN
CALSCALE:GREGORIAN
METHOD:PUBLISH
X-WR-CALNAME:La Casita de Inglés
X-ORIGINAL-URL:https://lacasitadeingles.com
X-WR-CALDESC:Eventos para La Casita de Inglés
REFRESH-INTERVAL;VALUE=DURATION:PT1H
X-Robots-Tag:noindex
X-PUBLISHED-TTL:PT1H
BEGIN:VTIMEZONE
TZID:Europe/Madrid
BEGIN:DAYLIGHT
TZOFFSETFROM:+0100
TZOFFSETTO:+0200
TZNAME:CEST
DTSTART:20230326T010000
END:DAYLIGHT
BEGIN:STANDARD
TZOFFSETFROM:+0200
TZOFFSETTO:+0100
TZNAME:CET
DTSTART:20231029T010000
END:STANDARD
END:VTIMEZONE
BEGIN:VEVENT
DTSTART;TZID=Europe/Madrid:20230520T170000
DTEND;TZID=Europe/Madrid:20230520T190000
DTSTAMP:20260424T074504
CREATED:20210427T193006Z
LAST-MODIFIED:20230412T151200Z
UID:9909-1684602000-1684609200@lacasitadeingles.com
SUMMARY:Taller - Escape Room
DESCRIPTION:El próximo sábado 20 de mayo de 17 a 19h llevaremos a cabo en La Casita de Inglés una de nuestros talleres más populares. Se trata de nuestro famoso Escape Room\, una aventura en la que pequeños detectives de 3 a 12 años tendrán 2 horas para poner a prueba su agilidad física y mental con todo tipo de desafíos.\n\n¡Y todo 100% en inglés con profesores nativos! \n \nEl año pasado tuvieron tanto éxito las temáticas «Beach Escape» y «Zombies» que ¡repetimos este año!\n\n3 a 6 años Beach Escape!  \nNuestros  investigadores de 3 a 6 años se enfrentarán al reto Beach Escape\, en el que deberán ayudar a escapar a un cangrejo raptado. Pruebas\, adivinanzas\, rompecabezas\, códigos y hasta desafíos de tipo STEM. ¿Conseguirá el pequeño cangrejito llegar al mar? \n7 a 12 años Zombie Teacher  \nPor otro lado\, tenemos preparada una aventura fascinante para nuestros detectives de 7 a 12 años. ¡Se enfrentarán a un Apocalipsis Zombie! Laberintos\, acertijos\, mensajes encriptados\, y muchos retos para hallar un antídoto que pueda salvar a su Zombie Teacher\, y de paso a la humanidad. \nCuando: Sábado 20 de Mayo de 17:00 a 19:00 h \nRatio: 10 niños/as por grupo \nPrecio: 25€/niño/a \n¡No te quedes sin tu plaza! \nPara reservar plaza/s\, pulsa AQUÍ para darte de alta en nuestra plataforma y una vez que tus hijo/as tengan su perfil\, podrás reservar plaza.
URL:https://lacasitadeingles.com/evento/taller-escape-room/
CATEGORIES:Talleres
ATTACH;FMTTYPE=image/gif:https://lacasitadeingles.com/wp-content/uploads/2021/04/escaperoom.gif
END:VEVENT
END:VCALENDAR