BEGIN:VCALENDAR
VERSION:2.0
PRODID:-//La Casita de Inglés - ECPv6.6.4.2//NONSGML v1.0//EN
CALSCALE:GREGORIAN
METHOD:PUBLISH
X-ORIGINAL-URL:https://lacasitadeingles.com
X-WR-CALDESC:Eventos para La Casita de Inglés
REFRESH-INTERVAL;VALUE=DURATION:PT1H
X-Robots-Tag:noindex
X-PUBLISHED-TTL:PT1H
BEGIN:VTIMEZONE
TZID:Europe/Madrid
BEGIN:DAYLIGHT
TZOFFSETFROM:+0100
TZOFFSETTO:+0200
TZNAME:CEST
DTSTART:20240331T010000
END:DAYLIGHT
BEGIN:STANDARD
TZOFFSETFROM:+0200
TZOFFSETTO:+0100
TZNAME:CET
DTSTART:20241027T010000
END:STANDARD
END:VTIMEZONE
BEGIN:VEVENT
DTSTART;TZID=Europe/Madrid:20241116T170000
DTEND;TZID=Europe/Madrid:20241116T190000
DTSTAMP:20260423T011539
CREATED:20230925T201709Z
LAST-MODIFIED:20240924T150224Z
UID:36391-1731776400-1731783600@lacasitadeingles.com
SUMMARY:Harry Potter Workshop 🏰 🧙 Taller HARRY POTTER
DESCRIPTION:¡El primer taller mágico del curso está aquí! \n¿Buscas una opción súper divertida para la tarde del sábado? \nEl próximo sábado 16 de noviembre\, de 17:00 a 19:00\, os invitamos a una jornada llena de magia otoñal en La Casita de Inglés\, donde nos transformaremos en la escuela de Hogwarts para aprender inglés con actividades inspiradas en el universo de Harry Potter. \nGarantizamos dos horas de pura diversión para pequeños hechiceros\, con actividades especialmente diseñadas para su rango de edad. ¡Y todo\, guiado por nuestros mágicos profesores nativos! \nEste taller estará repleto de manualidades\, juegos como el famoso Quidditch\, expresión corporal y hasta alguna que otra poción mágica con nuestros desafíos STEM. ¿Estáis listos para esta aventura mágica? \n📅 Fecha: Sábado 16 de noviembre\n🕔 Horario: De 17:00 a 19:00 \n¿Dónde? \nNuestro portal mágico a Hogwarts estará disponible en Las Casitas de Inglés de: \n🧹Alcobendas: Tlf/ WhatsApp: 633 205 216 email: alcobendas@lacasitadeingles.com\n🐍Barrio de Salamanca: Tlf/ WhatsApp: 686 747 537 email: padilla@lacasitadeingles.com\n👓Boadilla: Tlf/ WhatsApp: 722 171 335 ⁣email: boadilla@lacasitadeingles.com\nCarabanchel: Tlf/ WhatsApp: 613 332 838 ⁣email: carabanchel@lacasitadeingles.com\n⚡Chamberí: Tlf/ WhatsApp: 607 540 067 ⁣email: chamberi@lacasitadeingles.com\n🕷 Getafe: Tlf/ WhatsApp: 671 755 902 email: getafe@lacasitadeingles.com\n Leganés: Tlf/ WhatsApp: 654 459 779 email: leganes@lacasitadeingles.com\n🐉Majadahonda: Tlf/ WhatsApp: 676 785 076 email: majadahonda@lacasitadeingles.com\n📚Montecarmelo: Tlf/ WhatsApp: 671 244 181 email: montecarmelo@lacasitadeingles.com\n🏰Pozuelo: Tlf/ WhatsApp: 699 936 373 ⁣email: pozuelo@lacasitadeingles.com\n🧙Sanchinarro: Tlf/ WhatsApp: 644 820 738 email: sanchinarro@lacasitadeingles.com\n🔮Sant Cugat: Tlf/ WhatsApp: 666 707 798⁣ email: santcugat@lacasitadeingles.com\n🦉Vallecas: Tlf/ WhatsApp: 622 441 019 email: vallecas@lacasitadeingles.com \nEdades:\nHechiceros de 3 a 12 años divididos por edades. \nRatio:\nMáximo 10 magos por grupo. \nPrecios: \n\n25€/ niño Alumno Casita\n30 €/niño No Alumno Casita.\n\n​️ Profesores nativos ✔️ \n🧹¡Nuestras plazas están volando como la escoba mágica de Harry Potter! ¡No te quedes sin la tuya!🧹 \nPara reservar plaza\, pulsa AQUÍ 
URL:https://lacasitadeingles.com/evento/dia-sin-cole-13-octubre-2023-mini-camp-harry-potter/
CATEGORIES:Talleres
ATTACH;FMTTYPE=image/png:https://lacasitadeingles.com/wp-content/uploads/2023/09/harry-1.png
END:VEVENT
END:VCALENDAR