BEGIN:VCALENDAR
VERSION:2.0
PRODID:-//La Casita de Inglés - ECPv6.6.4.2//NONSGML v1.0//EN
CALSCALE:GREGORIAN
METHOD:PUBLISH
X-WR-CALNAME:La Casita de Inglés
X-ORIGINAL-URL:https://lacasitadeingles.com
X-WR-CALDESC:Eventos para La Casita de Inglés
REFRESH-INTERVAL;VALUE=DURATION:PT1H
X-Robots-Tag:noindex
X-PUBLISHED-TTL:PT1H
BEGIN:VTIMEZONE
TZID:Europe/Madrid
BEGIN:DAYLIGHT
TZOFFSETFROM:+0100
TZOFFSETTO:+0200
TZNAME:CEST
DTSTART:20250330T010000
END:DAYLIGHT
BEGIN:STANDARD
TZOFFSETFROM:+0200
TZOFFSETTO:+0100
TZNAME:CET
DTSTART:20251026T010000
END:STANDARD
END:VTIMEZONE
BEGIN:VEVENT
DTSTART;TZID=Europe/Madrid:20251024T170000
DTEND;TZID=Europe/Madrid:20251024T190000
DTSTAMP:20260422T055855
CREATED:20221006T132009Z
LAST-MODIFIED:20251024T074346Z
UID:26561-1761325200-1761332400@lacasitadeingles.com
SUMMARY:Taller de cerámica especial Halloween en LCDI Chamberí
DESCRIPTION:🎃👻 ¡Ceramic Halloween Workshop en La Casita de Inglés Chamberí! 🧙‍♀️🕸️ \nEl próximo viernes 24 de octubre ven a crear tus propias piezas de cerámica inspiradas en Halloween: adorables fantasmitas\, un plato Jack O’Lantern\, o un colgante con figuras terroríficamente divertidas para decorar tu habitación. 💀🎨 \nNuestra profesora nativa Tina\, experta en cerámica\, te guiará paso a paso con técnicas de modelado y plancha\, y nosotros nos encargamos de cocer y esmaltar las piezas para que te las lleves perfectas a casa unos días después. \n📅 Cuándo: Viernes 24 de octubre de 17:00 a 19:00h\n👧👦 Edades: De 3 a 12 años\n💰 Precio: 30€ materiales incluidos\n📍 La Casita de Inglés Chamberí (c/ Fernández de la Hoz 80) \n📲 Reserva tu plaza en la plataforma pinchando AQUÍ \n¡No necesitas experiencia previa\, solo ganas de pasarlo de miedo! 🧡
URL:https://lacasitadeingles.com/evento/taller-de-ceramica-especial-halloween-en-lcdi-chamberi-2/
CATEGORIES:Talleres
ATTACH;FMTTYPE=image/png:https://lacasitadeingles.com/wp-content/uploads/2022/10/taller-de-ceramica-de-halloween-en-ingles-Instagram-Post-45-1.png
ORGANIZER;CN="La Casita de Ingles Chamberi":MAILTO:chamberi@lacasitadeingles.com
END:VEVENT
END:VCALENDAR