BEGIN:VCALENDAR
VERSION:2.0
PRODID:-//La Casita de Inglés - ECPv6.6.4.2//NONSGML v1.0//EN
CALSCALE:GREGORIAN
METHOD:PUBLISH
X-WR-CALNAME:La Casita de Inglés
X-ORIGINAL-URL:https://lacasitadeingles.com
X-WR-CALDESC:Eventos para La Casita de Inglés
REFRESH-INTERVAL;VALUE=DURATION:PT1H
X-Robots-Tag:noindex
X-PUBLISHED-TTL:PT1H
BEGIN:VTIMEZONE
TZID:Europe/Madrid
BEGIN:DAYLIGHT
TZOFFSETFROM:+0100
TZOFFSETTO:+0200
TZNAME:CEST
DTSTART:20250330T010000
END:DAYLIGHT
BEGIN:STANDARD
TZOFFSETFROM:+0200
TZOFFSETTO:+0100
TZNAME:CET
DTSTART:20251026T010000
END:STANDARD
END:VTIMEZONE
BEGIN:VEVENT
DTSTART;VALUE=DATE:20251108
DTEND;VALUE=DATE:20251215
DTSTAMP:20260422T041640
CREATED:20250526T125926Z
LAST-MODIFIED:20251101T101959Z
UID:40984-1762560000-1765756799@lacasitadeingles.com
SUMMARY:Museum Explorers: Art & English ¡Nuevas fechas para nuestras visitas artísticas!
DESCRIPTION:Text in English available at the bottom. \nDescubre el arte de Madrid con Louis Nye: Talleres creativos en inglés para niños \n  \n\n\n\n\n\n\n\n\n\n🎨 ¡Vuelven las visitas-taller de La Casita de Inglés a los museos de Madrid! \nDespués del éxito de los últimos meses\, retomamos nuestras divertidas y educativas visitas al Prado\, Reina Sofía\, Thyssen… ¡y muchos más! ✨ \nEl artista londinense Louis Nye seguirá guiando a los niños y niñas en estas sesiones creativas\, donde descubrirán historias fascinantes sobre las obras maestras\, aprenderán curiosidades del arte y practicarán inglés de forma natural mientras dibujan. \nCada visita dura 1 hora y 30 minutos\, cuesta 25 € y está dirigida a niños y niñas de 7 a 13 años. \nExploraremos nuevos temas y rincones de los museos\, así que si ya has venido antes\, ¡te encantará volver a participar! \n\n\n\n\n\n\n\n\n\n\n\n\n \n\n\n\n\n\n\nSábado 8 de noviembre \n\n\n\n\n\n\nMuseo Arqueológico\n\n\n\n\n\n\n\n\n\n\nAventuras antiguas \n\n\n\n\n­\n\n\n\n\n\n\n\n¡Viaja en el tiempo con los egipcios\, romanos y griegos! En esta visita recorreremos mosaicos\, estatuas de mármol\, vasijas y objetos antiguos\, mientras Louis da vida a los mitos y leyendas: ¡héroes\, animales y aventuras por todas partes! \nActividades incluidas: “Dibuja tu propia criatura mitológica” combinando características de distintos animales\, y escribe tu nombre en jeroglíficos.Aforo: 7 alumnosDuración: 1 hora y mediaHorario disponible: 15:30–17:00 \n\n\n\n\n\n\n\n\n\n  \nDomingo 9 de noviembre \n\n\n\n\n\n\nMuseo del Prado\n\n\n\n\n\n\n\n\n\n\nBúsqueda del tesoro en el Prado! \n\n\n\n\n­\n\n\n\n\n\n\n\n¡Empezamos el nuevo curso con una de nuestras actividades más populares: una búsqueda del tesoro por el Museo del Prado! Louis guiará a los alumnos a través de la historia del arte con juegos divertidos y dinámicos que harán que las pinturas cobren vida. \nActividades incluidas: Encuentra las diferencias\, ¿Dónde está Wally? versión Prado\, y “dibuja los detalles que faltan”.Aforo: 7 alumnosDuración: 1 hora y mediaHorarios disponibles: 10:30–12:00\, 12:15–13:45 y 16:00–17:30 \n\n\n\n\n\n\n\n\n\nDomingo 23 de noviembre \n\n\n\n\n\n\nReina Sofia\n\n\n\n\n\n\n\n\n\n\nTour: Painting Remix \n\n\n\n\n­\n\n\n\n\n\n\n¡Prepárate para mezclar el arte moderno! Inspirados en el juego surrealista “cadáver exquisito”\, exploraremos diferentes estilos como el cubismo\, el surrealismo y el realismo social para crear nuestras propias obras combinadas. Louis entregará cuadernos especiales para que los alumnos dibujen una parte de una pintura y luego puedan intercambiarla o remezclarla con la de otro compañero. \nActividades incluidas: juegos de dibujo surrealistas\, “DJs del museo” (los alumnos eligen dos cuadros y tratan de combinarlos) y un cuaderno desplegable con distintos estilos pictóricos.\nAforo: 6 alumnos\nDuración: 1 hora y media\nHorarios disponibles: 10:15–11:45\, 12:00–13:30 y 16:00–17:30\n\n\n\n  \n\n\n\n\n\nSábado 29 de noviembre \n\n\n\n\n\n\nThyssen-Bornemisza\n\n\n\n\n\n\n\n\n\n\nCómo dibujar personas \n\n\n\n\n­\n\n\n\n\n\n\n¡Explora más de 500 años de retratos en una sola sesión! Desde las figuras detalladas del Renacimiento de Bronzino hasta las pinceladas expresivas de De Kooning\, aprenderemos diferentes maneras de dibujar personas —¡porque no hay solo una forma! Crearemos retratos realistas\, divertidos o abstractos. \nActividades incluidas: cómo dibujar una cara\, bocetar con tu mano menos hábil y “dibujar emociones” (cambiar el estado de ánimo de una pintura dibujando la figura feliz\, sorprendida o pícara).\nAforo: 5 alumnos\nDuración: 1 hora y media\nHorarios disponibles: 10:15–11:45\, 12:00–13:30 y 16:00–17:30\n\n\n\n\n\n\n\n\nDomingo 14 de diciembre \n\n\n\n\n\n\nMuseo del Prado\n\n\n\n\n\n\n\n\n\n\nVisita especial de temporada navideña \n\n\n\n\n­\n\n\n\n\n\n\nEsta visita se centra en cómo los artistas del Prado han representado escenas de bondad\, familia y amor. En contraste con las pinturas negras de Goya o las escenas de batalla de Rubens\, exploraremos retratos familiares\, representaciones de animales y paisajes invernales. Los alumnos también tendrán la oportunidad de crear regalos para sus seres queridos durante las fiestas\, como una postal y un adorno de papel. \nActividades incluidas: dibuja una postal para regalar a alguien y decora un adorno de papel.\nAforo: 7 alumnos\nDuración: 1 hora y media\nHorarios disponibles: 10:30–12:00\, 12:15–13:45 y 16:00–17:30 \nNos reuniremos con Louis en la entrada del museo unos minutos antes de cada sesión.\n\n\n\n  \n¡Apunta a tus hijos para un taller que despertará su creatividad\, mejorará su inglés y los conectará con el arte de una manera única! \nCómo contratar: \n1. Entra en https://lacasitadeingles.es/login\n2. Si no tienes una cuenta ya\, crea tu cuenta y registra a tu/ hijo/s (sin este paso\, no podrás acceder al taller).\n3. Selecciona una Casita de Inglés en Madrid si no pertenecéis ya a una Casita.\n4. Selecciona «campamentos/talleres»\n5. Elige la fecha y turno \nPreguntas Frecuentes (FAQ): \n¿Cuál es la estructura del taller?\nEl taller tiene una duración de 1 hora y 30 minutos. La primera mitad consiste en una visita temática por el museo\, durante la cual Louis explica las historias\, técnicas y la importancia de las obras de arte\, además de generar un debate con los niños para que hablen sobre las obras. La segunda mitad será una clase de dibujo donde los niños realizarán bocetos a lápiz de obras famosas de la colección. \n¿Quién es Louis Nye?\nLouis Nye es un artista profesional y profesor en La Casita de Inglés. Con años de experiencia enseñando a niños a través de talleres creativos\, combina su pasión por el arte y la educación para inspirar a los niños a conectar con el arte de una manera única. \n¿Qué museos visitaremos?\nLa mayoría de los talleres tendrán lugar en las colecciones de los «Tres Grandes»: Museo del Prado\, Museo Reina Sofía y Museo Thyssen-Bornemisza. Sin embargo\, ocasionalmente también organizaremos visitas a exposiciones temporales especiales. \n¿Pueden los padres unirse al taller?\nSí\, los padres pueden unirse\, pero deberán comprar su propia entrada al museo de forma independiente. Ten en cuenta que las actividades del taller están diseñadas exclusivamente para los niños. \n¿Dónde nos encontraremos?\nNos encontraremos en la entrada principal del museo. Recibirás un mensaje con la ubicación exacta y más detalles antes de la fecha del taller. \n¿Los niños necesitan llevar algo?\nNo\, todos los materiales necesarios se proporcionarán durante el taller. Solo asegúrate de que estén preparados para explorar\, aprender y crear. \n¿Para qué edades está diseñado el taller?\nEl taller está diseñado para niños a partir de 7 años. \n¿El taller se realiza completamente en inglés?\nSí\, tanto la visita como las actividades se realizan íntegramente en inglés para crear un entorno divertido e inmersivo de aprendizaje. \n¿Qué ocurre si llegamos tarde?\nIntenta llegar al menos 10 minutos antes del inicio de la sesión. No podremos entrar al museo hasta que todos los niños del taller estén presentes. \n¿Puedo cambiar la fecha si mi hijo no puede asistir?\nEl cambio de fecha dependerá de la disponibilidad. Por favor\, contáctanos lo antes posible para discutir las opciones. \n¿Qué pasa si mi hijo tiene necesidades especiales?\nEstamos encantados de adaptarnos en la medida de lo posible. Infórmanos con antelación sobre cualquier necesidad específica o inquietud para que podamos prepararnos adecuadamente. \n¿Qué ropa deben llevar los niños?\nRopa y calzado cómodos\, adecuados para caminar por el museo. \n¿Pueden hermanos de diferentes edades participar en la misma sesión?\nSiempre que tengan 7 años o más\, los hermanos pueden unirse a la misma sesión. Si son más pequeños\, recomendamos esperar hasta que cumplan con el requisito de edad. \n¿Con quién puedo contactar para más información?\nSi tienes alguna otra pregunta\, no dudes en escribirnos a marina@lacasitadeingles.com o llamarnos al +34 633 199 161. \n______________ \n\n\n\n\n🇬🇧 English Version:\nNovember 8th – MAN (Museo Arqueológico Nacional) – Ancient Adventures\n\nStep back in time with the Egyptians\, Romans\, and Greeks! This tour will take us through mosaics\, marble statues\, vases\, and ancient artifacts\, while Louis brings the myths and legends to life – heroes\, animals\, and adventures galore! \n\nActivities include: ‘Draw your own mythological creature’ by mixing animal features and write your name in hieroglyphs.  \nCapacity: 7 students\nDuration: 1.5h \nTimes available: 15:30-17:00 \nNovember 9th – Prado – Treasure Hunt\nWe’ll kick off the new school year with one of our most popular activities: a treasure hunt through the Prado! Louis will lead the students through art history with fun and engaging games that bring the paintings to life. \nActivities include: Spot the difference\, Where’s Waldo: Prado edition\, and ‘draw the missing details’. \nCapacity: 7 students\nDuration: 1.5h \nTimes available: 10:30-12:00\, 12:15-13:45 & 16:00-17:30 \nNovember 23rd – Reina Sofía – Painting Remix\n\nGet ready to mash up modern art! Inspired by the surrealist game ‘exquisite corpse’\, we’ll look at different styles like cubism\, surrealism and social realism to create our own mixed-up artworks. Louis will hand out special flip books so students can draw one part of a painting and then swap or remix it with another. \n\nActivities include: Surrealist drawing games\, ’museum DJs’ (students choose two paintings and try to ‘remix’ them together) and a flip book of different painting styles. \nCapacity: 6 students\nDuration: 1.5h \nTimes available: 10:15-11:45\, 12:00-13:30 & 16:00-17:30 \nNovember 29th – Thyssen – How to Draw People\n\nLook at over 500 years of portrait in one session! From Bronzino’s detailed Renaissance figures to De Kooning’s wild brushstrokes\, we’ll learn how to draw people: it turns out there’s more than one way! We’ll create portraits that are realistic\, funny\, or abstract. \n\nActivities include: How to draw a face\, sketching with your weaker hand and ‘drawing emotions’ (change the mood of a painting by drawing the figure happy\, surprised or cheeky). \nCapacity: 5 students\nDuration: 1.5h \nTimes available: 10:15-11:45\, 12:00-13:30 & 16:00-17:30 \nDecember 14th – Prado – The Art of Giving\, a Holiday Workshop\nThis tour focuses on how artists at the Prado have painted scenes of kindness\, family and love. In contrast to Goya’s black paintings or Rubens’ battle scenes\, we’ll look at family portraits\, depictions of animals and winter scenes\, and the students will get the chance to make some gifts to give to loved ones over the festive period\, including a postcard and a paper ornament. \nActivities include: Draw a postcard to send to someone and paper ornament decorating. \nCapacity: 7 students\nDuration: 1.5h \nTimes available: 10:30-12:00\, 12:15-13:45 & 16:00-17:30 \n  \n\n\n\n\nPrice: €25 per child. \nWe’ll meet with Louis at the entrance of the museum a few minutes before each session starts. \nSign your kids up for a workshop that will spark their creativity and connect them to art in a truly unique way! \nHow to Book: \n\nGo to https://lacasitadeingles.es/login\nIf you don’t already have an account\, create one and register your child/children (without this step\, you won’t be able to access the workshop).\n\nSelect a Casita de Inglés in Madrid if you are not already part of one. \n\n\nSelect «campamentos/talleres». \n\nSelect the date and time slot.\n\nFAQ: \n\nWhat’s the structure of the tour? The tour will be 1hr30mins long. The first half will be a themed tour around the museum where Louis explains the stories\, techniques and importance behind artworks\, as well as generating a discussion with the kids where they talk about the artworks. The second half will be a drawing class where children make pencil drawings of famous artworks in the collection. \nWho is Louis Nye?\nLouis Nye is a professional artist and teacher at La Casita de Inglés. With years of experience teaching kids through creative workshops\, he combines his passion for art and education to inspire children to connect with art in new ways. Learn more about Louis and his work on his website: https://louisnye.com/ \nWhich museums will we visit?\nMost tours will take place in collections of the ‘Big 3’ museums: Museo del Prado\, Museo Reina Sofia and the Thyssen-Bornemisza. However\, we will occasionally offer tours around special\, temporary exhibitions. \nCan parents join the tour?\nYes\, parents are welcome to join\, but they would need to purchase their own museum ticket separately. Please note that the workshop activities are designed for kids only. \nWhere will we meet?\nWe will meet at the museum’s main entrance. You will receive a message with the exact meeting location and additional details closer to the date. \nDo the kids need to bring anything?\nNo\, all materials will be provided during the workshop. Just make sure they’re ready to explore\, learn\, and create!What age group is the workshop for?\nThe workshops are designed for children aged 7 and above. \nIs the workshop conducted entirely in English?\nYes\, the tour and activities are conducted entirely in English to create a fun and immersive learning environment. \nWhat happens if we’re late?\nPlease aim to arrive 10 minutes before the session starts. We aren’t able to enter the museum until all children on the tour are present. \nCan I reschedule if my child can’t attend?\nRescheduling may depend on availability. Please contact us as soon as possible to discuss options. \nWhat if my child has special needs?\nWe are happy to accommodate where possible. Please inform us in advance about any specific needs or concerns so we can prepare accordingly. \nWhat should kids wear?\nComfortable clothes and shoes suitable for walking in the museum. \nCan siblings of different age groups join the same session?\nAs long as they are 7 or older\, siblings can join the same session. If they are younger\, we recommend waiting until they meet the age requirement. \nWho do I contact for more information?\nIf you have any other questions\, feel free to reach out to us at marina@lacasitadeingles.com or calling +34 633 199 161
URL:https://lacasitadeingles.com/evento/museum-explorers-art-english-madrid/
CATEGORIES:Talleres
ATTACH;FMTTYPE=image/png:https://lacasitadeingles.com/wp-content/uploads/2025/01/Captura-de-pantalla-2025-01-15-a-las-20.20.08-1.png
END:VEVENT
END:VCALENDAR