BEGIN:VCALENDAR
VERSION:2.0
PRODID:-//La Casita de Inglés - ECPv6.6.4.2//NONSGML v1.0//EN
CALSCALE:GREGORIAN
METHOD:PUBLISH
X-WR-CALNAME:La Casita de Inglés
X-ORIGINAL-URL:https://lacasitadeingles.com
X-WR-CALDESC:Eventos para La Casita de Inglés
REFRESH-INTERVAL;VALUE=DURATION:PT1H
X-Robots-Tag:noindex
X-PUBLISHED-TTL:PT1H
BEGIN:VTIMEZONE
TZID:Europe/Madrid
BEGIN:DAYLIGHT
TZOFFSETFROM:+0100
TZOFFSETTO:+0200
TZNAME:CEST
DTSTART:20260329T010000
END:DAYLIGHT
BEGIN:STANDARD
TZOFFSETFROM:+0200
TZOFFSETTO:+0100
TZNAME:CET
DTSTART:20261025T010000
END:STANDARD
END:VTIMEZONE
BEGIN:VEVENT
DTSTART;TZID=Europe/Madrid:20260124T100000
DTEND;TZID=Europe/Madrid:20260215T173000
DTSTAMP:20260421T230352
CREATED:20250211T183627Z
LAST-MODIFIED:20260117T150639Z
UID:40551-1769248800-1771176600@lacasitadeingles.com
SUMMARY:Museum Explorers: Art & English
DESCRIPTION:Discover Madrid’s Art with Louis Nye: Creative Art Workshops in English for Kids \nGive your children the chance to enjoy a unique art and creativity experience in some of Madrid’s most iconic museums. These workshops are led by Louis Nye\, a London-based teacher at La Casita de Inglés and a professional artist\, who brings art to life for children aged 7 and up (without parental accompaniment). \nDuring this 90-minute experience\, children will take part in a fully immersive activity conducted entirely in English\, combining the exploration of masterpieces with a hands-on art workshop. The visit begins with a fun and educational walk through the museum\, where they will learn about the stories\, characters and emotions behind the artworks. \nThey will also discover how these pieces\, even though created long ago\, connect with today’s world\, from the video games they play to the fashion and music that surround them. \nIn the second half of the workshop\, children will create their own artwork inspired by what they have seen\, guided step by step by Louis. \nDescubre el arte de Madrid con Louis Nye: Talleres creativos en inglés para niños \n¡Lleva a tus hijos a vivir una experiencia única de arte y creatividad en algunos de los museos más icónicos de Madrid! Estos talleres están dirigidos por Louis Nye\, profesor londinense de La Casita de Inglés y artista profesional\, quien hará que el arte cobre vida para niños de 7 años en adelante (sin acompañamiento de padres). \nDurante 1 hora y 30 minutos\, los niños disfrutarán de una experiencia inmersiva completamente en inglés que combina la exploración de obras maestras con una actividad artística práctica. La visita comienza con una divertida y educativa caminata por el museo\, donde aprenderán sobre las historias\, personajes y emociones detrás de las obras. Además\, descubrirán cómo estas piezas\, aunque antiguas\, están conectadas con el mundo actual\, desde los videojuegos que juegan hasta la moda y la música que les rodea. \nEn la segunda mitad del taller\, los niños crearán su propia obra de arte inspirada en lo que han visto\, todo ello bajo la guía de Louis. \nMUSEUM SCHEDULE JANUARY-FEBRUARY 2026\nPROGRAMA DE MUSEOS ENERO–FEBRERO 2026 \nJanuary 24th – Thyssen-Bornemisza – Paint What You Feel\nPollock! Rothko! Mondrian! Join us on a tour looking at abstract art and learn how to read abstract paintings: we’ll discover how colour\, line and shape can tell stories without images or words. Children will explore bold abstract artworks and ask big questions: Can a zigzag feel angry? Can blue feel calm? As always\, we’ll do fun drawing activities that bring abstract art to life! \nCapacity: 5 students \nTimes available: 10:00\, 15:30\n\n24 de enero – Thyssen-Bornemisza – Pinta lo que sientes\n¡Pollock! ¡Rothko! ¡Mondrian! Acompáñanos en un recorrido por el arte abstracto para aprender a “leer” pinturas sin figuras: descubriremos cómo el color\, la línea y la forma pueden contar historias sin imágenes ni palabras. Los niños explorarán obras abstractas llenas de fuerza y se harán grandes preguntas: ¿un zigzag puede parecer enfadado? ¿el azul puede transmitir calma? Como siempre\, terminaremos con divertidas actividades de dibujo para dar vida al arte abstracto.\nAforo: 5 alumnos\nHorarios: 10:00\, 15:30\n____________________________ \nJanuary 25th – Reina Sofía – Draw What you See… Then Change It!\nBreak the rules of art history! In this tour we’ll learn how to draw masterpieces in the collection\, and then add a surprising element. This tour shows children that art is not frozen in time – it’s a starting point for new ideas. How would it look if your pet dog was added to Guernica? Or if your best friend from school was painted by Dali? Come along to find out! \nCapacity: 6 students \nTimes available: 10:45\n\n25 de enero – Reina Sofía – Dibuja lo que ves… ¡y luego cámbialo!\n¡Rompe las reglas de la historia del arte! En esta visita aprenderemos a dibujar obras maestras de la colección y después les añadiremos un elemento sorprendente. Esta experiencia muestra a los niños que el arte no está congelado en el tiempo\, sino que es un punto de partida para nuevas ideas. ¿Cómo sería el Guernica si apareciera tu perro? ¿Y si Dalí pintara a tu mejor amigo del cole? ¡Ven a descubrirlo!\nAforo: 6 alumnos\nHorario: 10:45\n_______________________________- \nJanuary 25th – MAN (Museo Arqueológico Nacional) – Ancient Adventures\nStep back in time with the Egyptians\, Romans\, and Greeks! This tour will take us through mosaics\, marble statues\, vases\, and ancient artifacts\, while Louis brings the myths and legends to life – heroes\, animals\, and adventures galore! \nCapacity: 7 students \nTimes available: 13:00\n\n25 de enero – MAN (Museo Arqueológico Nacional) – Aventuras antiguas\n¡Viaja al pasado con egipcios\, romanos y griegos! Recorremos mosaicos\, esculturas de mármol\, vasijas y objetos antiguos mientras Louis da vida a mitos y leyendas llenos de héroes\, animales y aventuras.\nAforo: 7 alumnos\nHorario: 13:00 \n___________________________________ \nFebruary 7th – Prado – Build a Story from a Painting \nPaintings in the Prado are full of drama\, mystery\, and hidden clues. Who are these people? What just happened? What will happen next? In this tour\, children become storytellers as they explore narrative masterpieces. We’ll observe faces\, objects\, settings and invent stories inspired by the artwork – then bring these ideas to life through drawing! \nCapacity: 7 students \nTimes available: 10:30\, 12:15\n\n7 de febrero – Prado – Construye una historia a partir de un cuadro\nLos cuadros del Prado están llenos de drama\, misterio y pistas ocultas. ¿Quiénes son estos personajes? ¿Qué acaba de pasar? ¿Qué ocurrirá después? En esta visita\, los niños se convierten en narradores al explorar obras con gran carga narrativa. Observaremos rostros\, objetos y escenarios\, inventaremos historias y las llevaremos al papel con el dibujo.\nAforo: 7 alumnos\nHorarios: 10:30\, 12:15\n__________________________________________ \nFebruary 14th – Museo del Traje – Fashion through Time \nWhat would you wear if you lived 200 years ago? Or 500? In this tour\, children become time travellers\, exploring how clothing has changed across history and why people dressed the way they did. We’ll draw from strange and interesting outfits as well as inventing our own. \nCapacity: 7 students \nTimes available: 11:15\n\n14 de febrero – Museo del Traje – La moda a través del tiempo\n¿Qué llevarías puesto si vivieras hace 200 años? ¿O hace 500? En este recorrido\, los niños viajan en el tiempo para descubrir cómo ha cambiado la ropa a lo largo de la historia y por qué la gente vestía de determinada manera. Dibujaremos trajes curiosos e inventaremos los nuestros.\nAforo: 7 alumnos\nHorario: 11:15\n__________________________________________ \nFebruary 15th – Thyssen – From Artwork to Comic Strip\nWhat if a painting could talk? In this tour\, children choose artworks from the Thyssen collection and transform them into short comic strips. We’ll learn what characters are thinking\, saying\, or doing next. This tour combines playful storytelling with drawing and is perfect for fans of story books or graphic novels. \nCapacity: 5 students \nTimes available: 12:00 & 16:00 \n15 de febrero – Thyssen – Del cuadro al cómic\n¿Y si un cuadro pudiera hablar? En esta visita\, los niños eligen obras de la colección del Thyssen y las transforman en pequeñas historietas. Descubriremos qué piensan los personajes\, qué dicen o qué sucede a continuación. Una actividad que combina dibujo y narración\, ideal para amantes de los libros ilustrados y las novelas gráficas.\nAforo: 5 alumnos\nHorarios: 12:00 y 16:00 \nPrecio: 25 € por niño/a. \n__________________________ \nNos reuniremos con Louis en la entrada del museo unos minutos antes de cada sesión. \n¡Apunta a tus hijos para un taller que despertará su creatividad\, mejorará su inglés y los conectará con el arte de una manera única! \n  \nWe will meet Louis at the museum entrance a few minutes before each session. \nSign your children up for a workshop that will spark their creativity\, improve their English\, and connect them with art in a truly unique way! \nCómo contratar: \n1. Entra en https://lacasitadeingles.es/login\n2. Si no tienes una cuenta ya\, crea tu cuenta y registra a tu/ hijo/s (sin este paso\, no podrás acceder al taller).\n3. Selecciona «Campamentos/Talleres\n4. Selecciona el «centro» Museum Tours\n5. Elige la fecha y turno \nHow to book: \n\n\nGo to https://lacasitadeingles.es/login \n\n\nIf you don’t already have an account\, create one and register your child/children (this step is required to access the workshop). \n\n\nSelect “Camps / Workshops” \n\n\nChoose the “centre” – Museum Tours \n\n\nSelect the date and time slot \n\n\nPreguntas Frecuentes (FAQ): \n¿Cuál es la estructura del taller?\nEl taller tiene una duración de 1 hora y 30 minutos. La primera mitad consiste en una visita temática por el museo\, durante la cual Louis explica las historias\, técnicas y la importancia de las obras de arte\, además de generar un debate con los niños para que hablen sobre las obras. La segunda mitad será una clase de dibujo donde los niños realizarán bocetos a lápiz de obras famosas de la colección. \nFrequently Asked Questions (FAQ) \nWhat is the structure of the workshop? \nThe workshop lasts 1 hour and 30 minutes. The first half is a themed museum tour\, during which Louis explains the stories\, techniques and importance of the artworks\, encouraging discussion so children can share their thoughts and opinions. The second half is a drawing session where children create pencil sketches inspired by famous works from the collection. \n¿Quién es Louis Nye?\nLouis Nye es un artista profesional y profesor en La Casita de Inglés. Con años de experiencia enseñando a niños a través de talleres creativos\, combina su pasión por el arte y la educación para inspirar a los niños a conectar con el arte de una manera única. \nWho is Louis Nye? \nLouis Nye is a professional artist and teacher at La Casita de Inglés. With years of experience leading creative workshops for children\, he combines his passion for art and education to inspire children to connect with art in a meaningful and engaging way. \n¿Qué museos visitaremos?\nLa mayoría de los talleres tendrán lugar en las colecciones de los «Tres Grandes»: Museo del Prado\, Museo Reina Sofía y Museo Thyssen-Bornemisza. Sin embargo\, ocasionalmente también organizaremos visitas a exposiciones temporales especiales. \nWhich museums will we visit? \nMost workshops take place in the collections of the “Big Three”: the Prado Museum\, Reina Sofía Museum\, and Thyssen-Bornemisza Museum. Occasionally\, we will also organise visits to special temporary exhibitions. \n¿Pueden los padres unirse al taller?\nSí\, los padres pueden unirse\, pero deberán comprar su propia entrada al museo de forma independiente. Ten en cuenta que las actividades del taller están diseñadas exclusivamente para los niños. \nCan parents join the workshop? \nYes\, parents may join\, but they must purchase their own museum ticket independently. Please note that all workshop activities are designed exclusively for children. \n¿Dónde nos encontraremos?\nNos encontraremos en la entrada principal del museo. Recibirás un mensaje con la ubicación exacta y más detalles antes de la fecha del taller. \nWhere will we meet? \nWe will meet at the museum’s main entrance. You will receive a message with the exact meeting point and further details before the workshop date. \n¿Los niños necesitan llevar algo?\nNo\, todos los materiales necesarios se proporcionarán durante el taller. Solo asegúrate de que estén preparados para explorar\, aprender y crear. \nDo children need to bring anything? \nNo. All necessary materials are provided during the workshop. Just make sure they are ready to explore\, learn and create. \n¿Para qué edades está diseñado el taller?\nEl taller está diseñado para niños a partir de 7 años. \nWhat ages is the workshop designed for? \nThe workshop is designed for children aged 7 and up. \n¿El taller se realiza completamente en inglés?\nSí\, tanto la visita como las actividades se realizan íntegramente en inglés para crear un entorno divertido e inmersivo de aprendizaje. \nIs the workshop conducted entirely in English? \nYes. Both the museum visit and all activities are carried out entirely in English to create a fun and immersive learning environment. \n¿Qué ocurre si llegamos tarde?\nIntenta llegar al menos 10 minutos antes del inicio de la sesión. No podremos entrar al museo hasta que todos los niños del taller estén presentes. \nWhat happens if we arrive late? \nPlease try to arrive at least 10 minutes before the session begins. We cannot enter the museum until all children in the group have arrived. \n¿Puedo cambiar la fecha si mi hijo no puede asistir?\nEl cambio de fecha dependerá de la disponibilidad. Por favor\, contáctanos lo antes posible para discutir las opciones. \nWhat if my child has special needs? \nWe are happy to adapt whenever possible. Please inform us in advance of any specific needs or concerns so we can prepare accordingly. \n¿Qué pasa si mi hijo tiene necesidades especiales?\nEstamos encantados de adaptarnos en la medida de lo posible. Infórmanos con antelación sobre cualquier necesidad específica o inquietud para que podamos prepararnos adecuadamente. \nWhat should children wear? \nComfortable clothing and footwear suitable for walking around the museum.\n \n¿Qué ropa deben llevar los niños?\nRopa y calzado cómodos\, adecuados para caminar por el museo. \nCan siblings of different ages attend the same session? \nAs long as they are 7 years old or older\, siblings may join the same session. For younger children\, we recommend waiting until they meet the age requirement. \n¿Pueden hermanos de diferentes edades participar en la misma sesión?\nSiempre que tengan 7 años o más\, los hermanos pueden unirse a la misma sesión. Si son más pequeños\, recomendamos esperar hasta que cumplan con el requisito de edad. \nWho can I contact for more information? \nIf you have any further questions\, please feel free to email us at marina@lacasitadeingles.com or call us on +34 633 199 161. \n¿Con quién puedo contactar para más información?\nSi tienes alguna otra pregunta\, no dudes en escribirnos a marina@lacasitadeingles.com o llamarnos al +34 633 199 161.
URL:https://lacasitadeingles.com/evento/museum-explorers-art-english-sabado-22-febrero-museo-del-prado/
CATEGORIES:Talleres
ATTACH;FMTTYPE=image/png:https://lacasitadeingles.com/wp-content/uploads/2025/01/Captura-de-pantalla-2025-01-15-a-las-20.20.08-1.png
END:VEVENT
END:VCALENDAR